BEGIN:VCALENDAR
VERSION:2.0
PRODID:Events Booking
BEGIN:VEVENT
UID:69ea781fc6701
SUMMARY:Curso HDI DAST online gravado
DESCRIPTION:O treinamento online gravado\, HDI DAST&nbsp\;permite que o alu
 no treine em seu próprio ritmo\, tempo e disponibilidade\, acessando o co
 nteúdo do curso (videoaulas\, exercícios\, simulados e materiais extras)
  diretamente na plataforma de ensino do HDI. Os alunos podem realizar as a
 ulas a partir de qualquer computador com acesso à Internet.
 Aprenda pra
 ticamente a qualquer hora\, em qualquer lugar e em seu tempo!
 Após a co
 mpra\, os cursos podem ser ativados em até 24 horas. Depois de se inscrev
 er em um curso online\, você tem até 12 semanas para acessar a plataform
 a e concluí-lo. Recomendamos que se programe para realizar o curso dentro
  do prazo e expiração\, pois a extensão do prazo de acesso por mais 30 
 dias\, terá uma taxa de R$ 199\,00.
 Quaisquer dúvidas sobre o curso\, 
 essa modalidade\, o exame de certificação\, prazos\, dentre outros temas
 \, entre em contato com o HDI através do chat no canto direito da sua tel
 a\, ligue para (11) 3071 0906 ou escreva para falecom@hdibrasil.com.br
 B
 ons estudos!
 O valor individual para este curso com certificação é de
 &nbsp\;R$ 1.993\,00 e pode ser parcelado em até 12x sem juros no cartão 
 de crédito.
 *Descontos especiais para inscrições em grupo da mesma em
 presa:
 De 2 a 4 participantes:&nbsp\;Desconto automático de 5%De 5 a 8 
 participantes:&nbsp\;Desconto automático de 8%A partir de 9 participantes
 :&nbsp\;Desconto automático de 10% Se precisar de mais informações ou t
 iver mais dúvidas\, sinta-se à vontade para nos contatar diretamente
 A
 tenciosamente
 Equipe HDI Brasil
 &nbsp\;falecom@hdibrasil.com.br &nbsp\
 ;(11) 3071-0906
DTSTART:21000101T030000Z
DTEND:21000101T030000Z
DTSTAMP:20260423T145055Z
ORGANIZER;CN=HDI Brasil:MAILTO:falecom@hdibrasil.com.br
END:VEVENT
END:VCALENDAR