BEGIN:VCALENDAR
VERSION:2.0
PRODID:Events Booking
BEGIN:VEVENT
UID:69ea79fa80beb
SUMMARY:Certificação HDI SCA (Sem Treinamento)
DESCRIPTION:O valor individual para esta certificação é de R$ 1993\,00 e
  pode ser parcelado em até 12x sem juros no cartão de crédito. Se preci
 sar de mais informações ou tiver mais dúvidas\, sinta-se à vontade par
 a nos contatar diretamente
 Atenciosamente
 Equipe HDI Brasil
 &nbsp\;f
 alecom@hdibrasil.com.br &nbsp\;(11) 3071-0906
DTSTART:21000101T030000Z
DTEND:21000101T030000Z
DTSTAMP:20260423T145850Z
ORGANIZER;CN=HDI Brasil:MAILTO:falecom@hdibrasil.com.br
END:VEVENT
END:VCALENDAR