BEGIN:VCALENDAR
VERSION:2.0
PRODID:Events Booking
BEGIN:VEVENT
UID:69ea79ff63bc2
SUMMARY:Certificação HDI DAST (Sem Treinamento)
DESCRIPTION:O valor individual para esta certificação é de R$ 1.993\,00 
 e pode ser parcelado em até 12x sem juros no cartão de crédito. Se prec
 isar de mais informações ou tiver mais dúvidas\, sinta-se à vontade pa
 ra nos contatar diretamente
 Atenciosamente
 Equipe HDI Brasil
 &nbsp\;
 falecom@hdibrasil.com.br &nbsp\;(11) 3071-0906
DTSTART:21010101T030000Z
DTEND:21010101T030000Z
DTSTAMP:20260423T145855Z
ORGANIZER;CN=HDI Brasil:MAILTO:falecom@hdibrasil.com.br
END:VEVENT
END:VCALENDAR