BEGIN:VCALENDAR
VERSION:2.0
PRODID:Events Booking
BEGIN:VEVENT
UID:69eaa4d51bc2c
SUMMARY:Reteste da Certificação XLA Foundation
DESCRIPTION:
 Importante: Esta inscrição é exclusiva para os alunos que
  já fizeram o exame e não conseguiram a pontuação necessária para a a
 provação.
 Esta inscrição será verificada pelo nosso comitê&nbsp\; 
 e caso não esteja qualificada de acordo com o critério acima\, o reembol
 so será de 50% do valor pago para cobrir as taxas e encargos gerados por 
 eventual cancelamento.
  × 
 O valor para o reteste desta certificaçã
 o é de R$ 699\,00 e pode ser parcelado em até 3x sem juros no cartão de
  crédito. Se precisar de mais informações ou tiver mais dúvidas\, sint
 a-se à vontade para nos contatar diretamente
 Atenciosamente
 Equipe HD
 I Brasil
 &nbsp\;falecom@hdibrasil.com.br &nbsp\;(11) 3071-0906
DTSTART:21020101T030000Z
DTEND:21020101T030000Z
DTSTAMP:20260423T180141Z
ORGANIZER;CN=HDI Brasil:MAILTO:falecom@hdibrasil.com.br
END:VEVENT
END:VCALENDAR