BEGIN:VCALENDAR
VERSION:2.0
PRODID:Events Booking
BEGIN:VEVENT
UID:69eaa3d1d0c42
SUMMARY:HDI TSPS- Curso On-line (Gravado)
DESCRIPTION:O treinamento online gravado\, HDI TSPS&nbsp\;permite que o alu
 no treine em seu próprio ritmo\, tempo e disponibilidade\, acessando o co
 nteúdo do curso (videoaulas\, exercícios\, simulados e materiais extras)
  diretamente na plataforma de ensino do HDI. Os alunos podem realizar as a
 ulas a partir de qualquer computador com acesso à Internet\, e o curso le
 va de 5 a 6 horas para ser concluído.
 Aprenda praticamente a qualquer h
 ora\, em qualquer lugar e em seu tempo!
 Após a compra\, os cursos podem
  ser ativados em até 24 horas. Depois de se inscrever em um curso online\
 , você tem até 12 semanas para acessar a plataforma e concluí-lo. Recom
 endamos que se programe para realizar o curso dentro do prazo e expiraçã
 o\, pois a extensão do prazo de acesso por mais 30 dias\, terá uma taxa 
 de R$ 199\,00.
 Quaisquer dúvidas sobre o curso\, essa modalidade\, o ex
 ame de certificação\, prazos\, dentre outros temas\, entre em contato co
 m o HDI através do chat no canto direito da sua tela\, ligue para (11) 30
 71 0906 ou escreva para falecom@hdibrasil.com.br
 Bons estudos!
 O valor
  individual para esta certificação é de R$ 1.993\,00 e pode ser parcela
 do em até 12x sem juros no cartão de crédito.
 *Descontos especiais pa
 ra inscrições em grupo da mesma empresa:
 De 2 a 4 participantes:&nbsp\
 ;Desconto automático de 5%De 5 a 8 participantes:&nbsp\;Desconto automát
 ico de 8%A partir de 9 participantes:&nbsp\;Desconto automático de 10% Se
  precisar de mais informações ou tiver mais dúvidas\, sinta-se à vonta
 de para nos contatar diretamente
 Atenciosamente
 Equipe HDI Brasil
 &n
 bsp\;falecom@hdibrasil.com.br &nbsp\;(11) 3071-0906
DTSTART:20990101T030000Z
DTEND:20990101T030000Z
DTSTAMP:20260423T175721Z
ORGANIZER;CN=HDI Brasil:MAILTO:falecom@hdibrasil.com.br
END:VEVENT
END:VCALENDAR