BEGIN:VCALENDAR
VERSION:2.0
PRODID:Events Booking
BEGIN:VEVENT
UID:69ea76987ba5f
SUMMARY:Curso HDI SCTL - 16 e 17 de julho de 2026
DESCRIPTION:
 Data:&nbsp\;16 e 17 de julho de 2026Carga horária: 16h (doi
 s dias) das 9h às 18h (horário de brasília)
 Modalidade: On-line\, ao 
 vivoPerfil profissional: GestorValor individual: R$ 2.893\,00
 Obs.: Este
  valor\, já inclui o exame de certificação internacional e pode ser par
 celado em até 12x sem juros\, no cartão de crédito.
 
 *Descontos esp
 eciais para inscrições em grupo da mesma empresa:
 De 2 a 4 participant
 es: Desconto automático de 5%De 5 a 8 participantes: Desconto automático
  de 8%A partir de 9 participantes: Desconto automático de 10%
DTSTART:20260716T120000Z
DTEND:20260717T210000Z
DTSTAMP:20260423T144424Z
ORGANIZER;CN=HDI Brasil:MAILTO:falecom@hdibrasil.com.br
END:VEVENT
END:VCALENDAR