BEGIN:VCALENDAR
VERSION:2.0
PRODID:Events Booking
BEGIN:VEVENT
UID:69ea782041db1
SUMMARY:HDI SCMM - Online gravado
DESCRIPTION:O treinamento online (gravado) -Support Center Maturity Model&n
 bsp\;(SCMM)\,&nbsp\;&nbsp\;permite que o aluno treine em seu próprio ritm
 o\, tempo e disponibilidade\, acessando o conteúdo do curso (videoaulas\,
  exercícios\, e materiais extras) diretamente na plataforma de ensino do 
 HDI. Os alunos podem realizar as aulas a partir de qualquer computador com
  acesso à Internet\, e o curso leva de 5 a 6 horas para ser concluído.

  Aprenda praticamente a qualquer hora\, em qualquer lugar e em seu tempo!
 
 Após a compra\, os cursos podem ser ativados em até 24 horas. Depois d
 e se inscrever em um curso online\, você tem até 12 semanas para acessar
  a plataforma e concluí-lo. Recomendamos que se programe para realizar o 
 curso dentro do prazo e expiração\, pois a extensão do prazo de acesso 
 por mais 30 dias\, terá uma taxa de R$ 199\,00.
 Quaisquer dúvidas sobr
 e o curso\, essa modalidade\, prazos\, dentre outros temas\, entre em cont
 ato com o HDI através do chat no canto direito da sua tela\, ligue para (
 11) 3071 0906 ou escreva para falecom@hdibrasil.com.br
 Bons estudos!
 O
  valor individual para este curso é de R$ 1.093\,00 e pode ser parcelado 
 em até 3x sem juros no cartão de crédito. Se precisar de mais informaç
 ões ou tiver mais dúvidas\, sinta-se à vontade para nos contatar direta
 mente
 Atenciosamente
 Equipe HDI Brasil
 &nbsp\;falecom@hdibrasil.com.
 br &nbsp\;(11) 3071-0906
DTSTART:20990101T030000Z
DTEND:20990101T030000Z
DTSTAMP:20260423T145056Z
ORGANIZER;CN=HDI Brasil:MAILTO:falecom@hdibrasil.com.br
END:VEVENT
END:VCALENDAR