BEGIN:VCALENDAR
VERSION:2.0
PRODID:Events Booking
BEGIN:VEVENT
UID:69ea786c3edf9
SUMMARY:HDI CAS - Online gravado
DESCRIPTION:O treinamento online (gravado) HDI CAS - Catálogo de Serviços
 \,&nbsp\;permite que o aluno treine em seu próprio ritmo\, tempo e dispon
 ibilidade\, acessando o conteúdo do curso (videoaulas\, exercícios\, e m
 ateriais extras) diretamente na plataforma de ensino do HDI. Os alunos pod
 em realizar as aulas a partir de qualquer computador com acesso à Interne
 t\, e o curso leva de 5 a 6 horas para ser concluído.
 Aprenda praticame
 nte a qualquer hora\, em qualquer lugar e em seu tempo!
 Após a compra\,
  os cursos podem ser ativados em até 24 horas. Depois de se inscrever em 
 um curso online\, você tem até 12 semanas para acessar a plataforma e co
 ncluí-lo. Recomendamos que se programe para realizar o curso dentro do pr
 azo e expiração\, pois a extensão do prazo de acesso por mais 30 dias\,
  terá uma taxa de R$ 199\,00.
 Quaisquer dúvidas sobre o curso\, essa m
 odalidade\, prazos\, dentre outros temas\, entre em contato com o HDI atra
 vés do chat no canto direito da sua tela\, ligue para (11) 3071 0906 ou e
 screva para falecom@hdibrasil.com.br
 Bons estudos!
 O valor individual 
 para este curso é de R$ 1.093\,00 e pode ser parcelado em até 3x sem jur
 os no cartão de crédito. Se precisar de mais informações ou tiver mais
  dúvidas\, sinta-se à vontade para nos contatar diretamente
 Atenciosam
 ente
 Equipe HDI Brasil
 &nbsp\;falecom@hdibrasil.com.br &nbsp\;(11) 307
 1-0906
DTSTART:20990101T030000Z
DTEND:20990101T030000Z
DTSTAMP:20260423T145212Z
ORGANIZER;CN=HDI Brasil:MAILTO:falecom@hdibrasil.com.br
END:VEVENT
END:VCALENDAR