BEGIN:VCALENDAR
VERSION:2.0
PRODID:Events Booking
BEGIN:VEVENT
UID:69ea77dac943a
SUMMARY:HDI ADM - Online gravado
DESCRIPTION:O treinamento online (gravado) HDI ADM - Administração de Ní
 veis de Serviços de TI\,&nbsp\;permite que o aluno treine em seu próprio
  ritmo\, tempo e disponibilidade\, acessando o conteúdo do curso (videoau
 las\, exercícios\, e materiais extras) diretamente na plataforma de ensin
 o do HDI. Os alunos podem realizar as aulas a partir de qualquer computado
 r com acesso à Internet\, e o curso leva de 5 a 6 horas para ser concluí
 do.
 Aprenda praticamente a qualquer hora\, em qualquer lugar e em seu te
 mpo!
 Após a compra\, os cursos podem ser ativados em até 24 horas. Dep
 ois de se inscrever em um curso online\, você tem até 12 semanas para ac
 essar a plataforma e concluí-lo. Recomendamos que se programe para realiz
 ar o curso dentro do prazo e expiração\, pois a extensão do prazo de ac
 esso por mais 30 dias\, terá uma taxa de R$ 199\,00.
 Quaisquer dúvidas
  sobre o curso\, essa modalidade\, prazos\, dentre outros temas\, entre em
  contato com o HDI através do chat no canto direito da sua tela\, ligue p
 ara (11) 3071 0906 ou escreva para falecom@hdibrasil.com.br
 Bons estudos
 !
 O valor individual para este curso é de R$ 1.093\,00 e pode ser parce
 lado em até 3x sem juros no cartão de crédito. Se precisar de mais info
 rmações ou tiver mais dúvidas\, sinta-se à vontade para nos contatar d
 iretamente
 Atenciosamente
 Equipe HDI Brasil
 &nbsp\;falecom@hdibrasil
 .com.br &nbsp\;(11) 3071-0906
DTSTART:20990101T030000Z
DTEND:20990101T030000Z
DTSTAMP:20260423T144946Z
ORGANIZER;CN=HDI Brasil:MAILTO:falecom@hdibrasil.com.br
END:VEVENT
END:VCALENDAR